BEGIN:VCALENDAR
VERSION:2.0
PRODID:-//Polydog.ch//NONSGML kigkonsult.se iCalcreator 2.16.12//
METHOD:PUBLISH
X-MS-OLK-FORCEINSPECTOROPEN:TRUE
BEGIN:VEVENT
UID:20260421T100616CEST-35587TLHsu@Polydog.ch
DTSTAMP:20260421T080616Z
DESCRIPTION:Datum:\n11./12. Mai 24\n15./16. Juni 24\n17./18. August 24\n01.
  September 24\n \n\nDatum Prüfung:\n21. September 24\n \n\nKosten: SKG Mit
 glieder Fr. 1350.- inklusive Prüfung\, Nicht SKG Mitglieder Fr. 1500.- \n 
 \n\nAnzahl Teilnehmer: max. 10 Personen\n \n\nOrt: Uri (uri-dog Platz Altd
 orf)\n \n\nAusbildnerin: Frösch Steffi\, Instruktorin und Richterin Kommis
 sion Polydog\, SKG\n\nZiel und Inhalt der Ausbildung ist es\, gute Grundke
 nntnisse zu haben über:\n- den Aufbau des Mensch-Hund Teams beim SchaSu\n-
  Systemtraining bei allen Disziplinen\n- das Vorbereiten von Suchanlagen\n
 - interessante und spannende Trainingsmethoden\n- den Umgang mit Problemen
  bei der Suche und bei der Anzeige\n- die Vorbereitung von Teams auf Wettk
 ämpfe\n- die Anwendung der Lerntheorie beim SchaSu\nTeilnahmebedingung: \n
 \n\n	Mindestalter 18 Jahre\n	SKG Gruppenleiterausbildung oder gleichwertige 
 Ausbildung. (Über die Gleichwertigkeit anderer Vorbildungen entscheidet di
 e Fachstelle Ausbildung)\n	Der Teilnehmer muss bereits Erfahrung im SchaSu 
 haben. Er verfügt mit seinem Hund entweder über eine bestandene Prüfung St
 ufe 1\, legt diese Prüfung während der Ausbildung an einem offiziellen Wet
 tkampf ab oder besteht während der Ausbildung einen Niveau Test auf dieser
  Stufe.\n\n\nAnmeldung\n\nBitte ausfüllen und einsenden an: steffi@froes.c
 h
DTSTART:20240511T000000
DTEND:20240921T000000
LOCATION:Uri
ORGANIZER:MAILTO:Polydog.ch <info@polydog.ch>
SUMMARY:SchaSu Trainerausbildung 2024
END:VEVENT
END:VCALENDAR
