BEGIN:VCALENDAR
VERSION:2.0
PRODID:-//Polydog.ch//NONSGML kigkonsult.se iCalcreator 2.16.12//
METHOD:PUBLISH
X-MS-OLK-FORCEINSPECTOROPEN:TRUE
BEGIN:VEVENT
UID:20260421T100442CEST-3903U8bPJo@Polydog.ch
DTSTAMP:20260421T080442Z
DESCRIPTION:\n	\n		\n			\n			Sportart\n			\n			\n			SchaSu\n			\n		\n		\n			\n			Kategorie(n)\n			\n			\n			Stufe 2
 \n			\n		\n		\n			\n			Name der Prüfung\n			\n			\n			SchaSu Wettkampf uri-dog\n			\n		\n		\n			\n			1. Sekti
 on\n			\n			\n			uri-dog\n			\n		\n		\n			\n			2. Webseite\n			\n			\n			www.uri-dog.ch\n			\n		\n		\n			\n			3. Datum
  der Prüfung\n			\n			\n			03.07.2021\n			\n		\n		\n			\n			4. Ort und Gelände\n			\n			\n			Altdorf\, ur
 i-dog und Hundesport Gotthard\n			\n		\n		\n			\n			5. Beginn (Uhrzeit)\n			\n			\n			9.00\n			\n		\n
 		\n			\n			6. Meldebeginn\n			\n			\n			03.06.2021\n			\n		\n		\n			\n			7. Meldeschluss\n			\n			\n			27.06.202
 1\n			\n		\n		\n			\n			8. Wettkampfleiter\n			\n			\n			Steffi Frösch\, Feldgasse 2\, 6463 Bürg
 len\n			\n		\n		\n			\n			9. Richter\n			\n			\n			Joe Käch\, Steffi Frösch\,\n			\n		\n		\n			\n			10. Anmel
 dungzustellung\n			\n			\n			steffi@froes.ch\n			\n		\n		\n			\n			11. Startgeld\n			\n			\n			SKG Mitgli
 eder Fr. 50.- Nicht SKG Mitglieder Fr. 55.-\n			\n		\n		\n			\n			12. Max. Anzahl Teiln
 ehmer\n			\n			\n			20\n			\n		\n		\n			\n			13. Rangverkündigung\n			\n			\n			Möglichst schnell nach En
 de des Wettkampfes\n			\n		\n		\n			\n			14. Bemerkungen\n			\n			\n			Bitte den Aktivitätennach
 weis und die Mitglieder Bescheinigung mitbringen\n			\n		\n	\n\n
DTSTART:20210703T090000
DTEND:20210703T000000
LOCATION:Altdorf
ORGANIZER:MAILTO:Polydog.ch <info@polydog.ch>
SUMMARY:SchaSu Wettkampf Uri Dog
END:VEVENT
END:VCALENDAR
