BEGIN:VCALENDAR
VERSION:2.0
PRODID:-//Polydog.ch//NONSGML kigkonsult.se iCalcreator 2.16.12//
METHOD:PUBLISH
X-MS-OLK-FORCEINSPECTOROPEN:TRUE
BEGIN:VEVENT
UID:20260421T095403CEST-7163dN5ejd@Polydog.ch
DTSTAMP:20260421T075403Z
DESCRIPTION:\n	\n		\n			\n			Kategorie(n)\n			\n			\n			A\, B1\n			\n		\n		\n			\n			Name der Prüfung\n			\n			
 \n			SpassSport Wettkampf Münsingen\n			\n		\n		\n			\n			1. Sektion\n			\n			\n			KV Münsingen\n			\n
 		\n		\n			\n			2. Webseite\n			\n			\n			www.kv-muensingen.ch\n			\n		\n		\n			\n			3. Datum der Prüfung
 \n			\n			\n			13.06.2021\n			\n		\n		\n			\n			4. Ort und Gelände\n			\n			\n			Klubhaus KV Münsingen\n			
 \n		\n		\n			\n			5. Beginn (Uhrzeit)\n			\n			\n			08:00 Uhr\n			\n		\n		\n			\n			6. Meldebeginn\n			\n			\n			21
 .03.2021\n			\n		\n		\n			\n			7. Meldeschluss\n			\n			\n			06.06.2021\n			\n		\n		\n			\n			8. Wettkampflei
 ter\n			\n			\n			Daniela Mathys Chelsimatt 1 3155 Helgisried 079 336‘05‘38 Daniela
 .mathys@bluewin.ch\n			\n		\n		\n			\n			9. Richter\n			\n			\n			KV Münsigen\n			\n		\n		\n			\n			10. Anmel
 dungzustellung\n			\n			\n			Daniela.mathys@bluewin.ch\n			\n		\n		\n			\n			11. Startgeld\n			\n			\n
 			CHF 45.- für SKG Mitglieder\, CHF 50.- für Nicht-Mitglieder\n			\n		\n		\n			\n			12. M
 ax. Anzahl Teilnehmer\n			\n			\n			30\n			\n		\n		\n			\n			13. Rangverkündigung\n			\n			\n			Kurz nach
  dem Wettkampf\n			\n		\n		\n			\n			14. Bemerkungen\n			\n			\n			Das Veranstaltung wird der Co
 rona-Lage angepasst. Die Teilnehmer werden gestaffelt aufgeboten. Parkmögl
 ichkeiten beim Parkbad Münsingen\, ca. 500m vom Klubhaus.\n			\n		\n	\n\n
DTSTART:20210613T080000
DTEND:20210613T000000
LOCATION:KV Münsingen
ORGANIZER:MAILTO:Polydog.ch <info@polydog.ch>
SUMMARY:SpassSport Wettkampf Münsingen
END:VEVENT
END:VCALENDAR
