BEGIN:VCALENDAR
VERSION:2.0
PRODID:-//Polydog.ch//NONSGML kigkonsult.se iCalcreator 2.16.12//
METHOD:PUBLISH
X-MS-OLK-FORCEINSPECTOROPEN:TRUE
BEGIN:VEVENT
UID:20260421T105108CEST-5406FFezid@Polydog.ch
DTSTAMP:20260421T085108Z
DESCRIPTION:\n	\n		\n			\n			Name\n			HoopAgi Wettkampf KV Berna\n		\n		\n			\n			Kategorien\n			Beg
 inners\, Klasse 1 und Klasse 2\n		\n		\n			\n			Grösse(n)\n			Medium und Standard\n		\n		\n
 			1. Sektion\n			Kynologischer Verein Berna\n		\n		\n			2. Webseite\n			www.kv-berna.ch\n
 		\n		\n			3. Datum des Wettkampfes\n			29.08.2021\n		\n		\n			4. Ort und Gelände\n			Murtenho
 lz in Altavilla\n		\n		\n			5. Beginn\n			09.00 Uhr\n		\n		\n			6. Meldebeginn\n			01.06.2021
 \n		\n		\n			7. Meldeschluss\n			20.08.2021\n		\n		\n			8. Wettkampfleiter\n			Karin Schmocker
 \n		\n		\n			9. Richter\n			Françoise Gandoy\n		\n		\n			10. Anmeldungzustellung\n			über Webs
 eite www.kv-berna.ch\n		\n		\n			11. Startgeld\n			SKG Mitglieder Fr. 35.- Nichtmitg
 lieder Fr. 40.-\n		\n		\n			12. Max. Anzahl Teilnehmer\n			35\n		\n		\n			13. Rangverkündig
 ung\n			baldmöglichst nach Ende des Wettkampfes\n		\n		\n			 \n			\n			\n		\n	\n\n
DTSTART:20210829T090000
DTEND:20210829T000000
LOCATION:Altavilla
ORGANIZER:MAILTO:Polydog.ch <info@polydog.ch>
SUMMARY:HoopAgi Wettkampf KV Berna
END:VEVENT
END:VCALENDAR
