BEGIN:VCALENDAR
VERSION:2.0
PRODID:-//Polydog.ch//NONSGML kigkonsult.se iCalcreator 2.16.12//
METHOD:PUBLISH
X-MS-OLK-FORCEINSPECTOROPEN:TRUE
BEGIN:VEVENT
UID:20260421T095527CEST-6480BBb4HP@Polydog.ch
DTSTAMP:20260421T075527Z
DESCRIPTION:\n	\n		\n			 \n			Name des Wettkampfes\n			SportTrail-Wettkampf Belp\n		\n		\n			 
 \n			Kategorien\n			Stufen 1 \n		\n		\n			1.\n			Sektion\n			Agility-Cavallino Bern\n		\n		\n			2.\n
 			Webseite\n			www.agility-cavallino.ch\n		\n		\n			3.\n			Datum des Wettkampfs\n			12.06.20
 21\n		\n		\n			4.\n			Ort und Gelände\n			Belp\, Dorf/Quartier\n		\n		\n			5.\n			Beginn\n			08.30 U
 hr\n		\n		\n			6.\n			Meldebeginn\n			28.02.2021\n		\n		\n			7.\n			Meldeschluss\n			05.06.2021\n		\n		
 \n			8.\n			Wettkampfleiter\n			Pia Riesen\n		\n		\n			9.\n			Richter\n			Alexandra Roth\n		\n		\n			10
 .\n			Anmeldezustellung\n			pia.riesen@gmx.ch\n		\n		\n			11.\n			Startgeld\n			CHF 40.00 für
  SKG-Mitglieder\n			CHF 45.00 für nicht SKG-Mitglieder\n		\n		\n			12.\n			Max. Anzahl 
 Teilnehmer\n			12 Teams\n		\n		\n			13.\n			Rangverkündigung\n			ca. 13.00 Uhr und 17.00 U
 hr\n		\n		\n			14.\n			Bemerkungen\n			Bitte bei der Anmeldung vermerken\, ob ein Start
  am Morgen oder Nachmittag bevorzugt wird.\n		\n	\n\n
DTSTART:20210612T083000
DTEND:20210612T000000
LOCATION:Belp
ORGANIZER:MAILTO:Polydog.ch <info@polydog.ch>
SUMMARY:SportTrail Wettkampf Belp
END:VEVENT
END:VCALENDAR
