BEGIN:VCALENDAR
VERSION:2.0
PRODID:-//Polydog.ch//NONSGML kigkonsult.se iCalcreator 2.16.12//
METHOD:PUBLISH
X-MS-OLK-FORCEINSPECTOROPEN:TRUE
BEGIN:VEVENT
UID:20260421T095432CEST-1965RAUCvB@Polydog.ch
DTSTAMP:20260421T075432Z
DESCRIPTION:Fortbildun   g für HoopAgi Hundetrainer SKG\n\n\n\nDiese Fortbi
 ldung richtet sich an alle lizenzierten «HoopAgi Hundetrainer SKG». \n\n\n
 \nDatum\n\n06. Juni 2021\n\n\n\nOrt\n\nKV Zug (Theorieraum + Aussenplatz) 
 \n\n\n\nZiel und Inhalt der Fortbildung\n\nTheorie und Praxis findet live 
 vor Ort statt.\n\nGerne möchte ich an diesem Tag auf Themen eingehen\, die
  euch wichtig sind. Daher bitte ich euch\, mir eure Wünsche und Anregungen
  mitzuteilen. \n\n\n\nInstruktorin \n\nSylvia Sennhauser\n\n\n\nKosten pro
  Teilnehmer\n\nCHF 130.- pro Trainer exkl. Verpflegung\n\n\n\nAnzahl Teiln
 ehmer\n\nMinimale Teilnehmerzahl: 8 \n\n\n\nAnmeldung\n\nPer Mail an Sylvi
 a Sennhauser sylvia@workingpaws.ch\n\n\n
DTSTART:20210606T000000
DTEND:20210606T000000
LOCATION:KV Zug
ORGANIZER:MAILTO:Polydog.ch <info@polydog.ch>
SUMMARY:HoopAgi Fortbildung Trainer 
END:VEVENT
END:VCALENDAR
