BEGIN:VCALENDAR
VERSION:2.0
PRODID:-//Polydog.ch//NONSGML kigkonsult.se iCalcreator 2.16.12//
METHOD:PUBLISH
X-MS-OLK-FORCEINSPECTOROPEN:TRUE
BEGIN:VEVENT
UID:20260421T102748CEST-1649uwKezk@Polydog.ch
DTSTAMP:20260421T082748Z
DESCRIPTION:Fortbildun   g für HoopAgi Richter    SKG\n\n\n\nDiese Fortbild
 ung richtet sich an alle lizenzierten «HoopAgi Richter SKG». \n\n\n\nDaten
 \n\n\n	26. + 27. Juni 2021          \n\n\n\n\nOrt\n\nKV Zug (Theorieraum + 
 Aussenplatz) \n\n\n\nZiel und Inhalt der Fortbildung\n\nTheorie und Praxis
  findet live vor Ort statt.\n\nGerne möchte ich an beiden Tagen auf Themen
  eingehen\, die euch wichtig sind. Daher bitte ich euch\, mir eure Wünsche
  und Anregungen mitzuteilen. \n\n\n\nInstruktorin \n\nSylvia Sennhauser\n
 \n\n\nKosten pro Teilnehmer\n\nCHF 130.- pro Tag exkl. Verpflegung\n\n\n\n
 Anzahl Teilnehmer\n\n\n\nMinimale Teilnehmerzahl: 6\n \n\nAnmeldung\n\nper
  Mail an Sylvia Sennhauser sylvia@workingpaws.ch\n
DTSTART:20210626T000000
DTEND:20210627T000000
LOCATION:KV Zug
ORGANIZER:MAILTO:Polydog.ch <info@polydog.ch>
SUMMARY:HoopAgi Fortbildung Richter
END:VEVENT
END:VCALENDAR
