BEGIN:VCALENDAR
VERSION:2.0
PRODID:-//Polydog.ch//NONSGML kigkonsult.se iCalcreator 2.16.12//
METHOD:PUBLISH
X-MS-OLK-FORCEINSPECTOROPEN:TRUE
BEGIN:VEVENT
UID:20260421T102726CEST-5492n3HU6U@Polydog.ch
DTSTAMP:20260421T082726Z
DESCRIPTION:\n	\n		\n			 \n			Name des Wettkampfes\n			SportTrail-Wettkampf AT Gipfelst
 ürmer\n		\n		\n			 \n			Kategorien\n			Stufe 1 \n		\n		\n			1.\n			Sektion\n			AT Gipfelstürmer\n		\n		
 \n			2.\n			Webseite\n			 \n		\n		\n			3.\n			Datum des Wettkampfs\n			03.04.2021\n		\n		\n			4.\n			Ort u
 nd Gelände\n			Solothurn\n		\n		\n			5.\n			Beginn\n			08.30 Uhr\n		\n		\n			6.\n			Meldebeginn\n			22.
 01.2021\n		\n		\n			7.\n			Meldeschluss\n			22.03.2021\n		\n		\n			8.\n			Wettkampfleiter\n			Andrea
 s Tschudin\n		\n		\n			9.\n			Anmeldezustellung\n			alexandra.roth@gmx.ch\n		\n		\n			10.\n			Sta
 rtgeld\n			CHF 40.00 für SKG-Mitglieder\n			CHF 45.00 für nicht SKG-Mitglieder\n
 		\n		\n			11.\n			Max. Anzahl Teilnehmer\n			12 Teams\n		\n		\n			12.\n			Rangverkündigung\n			ca. 
 13.00 Uhr und 17.00 Uhr\n		\n		\n			13.\n			Bemerkungen\n			Bitte bei der Anmeldung ver
 merken\, ob ein Start am Morgen oder Nachmittag bevorzugt wird.\n		\n	\n\n
DTSTART:20210403T083000
DTEND:20210403T000000
LOCATION:Solothurn
ORGANIZER:MAILTO:Polydog.ch <info@polydog.ch>
SUMMARY:SportTrail Wettkampf Solothurn
END:VEVENT
END:VCALENDAR
