BEGIN:VCALENDAR
VERSION:2.0
PRODID:-//Polydog.ch//NONSGML kigkonsult.se iCalcreator 2.16.12//
METHOD:PUBLISH
X-MS-OLK-FORCEINSPECTOROPEN:TRUE
BEGIN:VEVENT
UID:20260421T102726CEST-20886Siiek@Polydog.ch
DTSTAMP:20260421T082726Z
DESCRIPTION:\n	\n		\n			 \n			Name des Wettkampfes\n			SportTrail-Wettkampf AT Gipfelst
 ürmer\n		\n		\n			 \n			Kategorien\n			Stufen 1 und 2\n		\n		\n			1.\n			Sektion\n			AT Gipfelstürme
 r\n		\n		\n			2.\n			Webseite\n			 \n		\n		\n			3.\n			Datum des Wettkampfs\n			05.04.2021\n		\n		\n			4.\n
 			Ort und Gelände\n			Rheinfelden\n		\n		\n			5.\n			Beginn\n			08.30 Uhr\n		\n		\n			6.\n			Meldebegi
 nn\n			22.01.2021\n		\n		\n			7.\n			Meldeschluss\n			22.03.2021\n		\n		\n			8.\n			Wettkampfleiter
 \n			Andreas Tschudin\n		\n		\n			9.\n			Anmeldezustellung\n			alexandra.roth@gmx.ch\n		\n		\n
 			10.\n			Startgeld\n			CHF 40.00 für SKG-Mitglieder\n			CHF 45.00 für nicht SKG-Mitg
 lieder\n		\n		\n			11.\n			Max. Anzahl Teilnehmer\n			12 Teams\n		\n		\n			12.\n			Rangverkündigu
 ng\n			ca. 13.00 Uhr und 17.00 Uhr\n		\n		\n			13.\n			Bemerkungen\n			Bitte bei der Anmel
 dung vermerken\, ob ein Start am Morgen oder Nachmittag bevorzugt wird.\n		
 \n	\n\n
DTSTART:20210405T083000
DTEND:20210405T000000
LOCATION:Rheinfelden
ORGANIZER:MAILTO:Polydog.ch <info@polydog.ch>
SUMMARY:SportTrail Wettkampf Rheinfelden
END:VEVENT
END:VCALENDAR
