BEGIN:VCALENDAR
VERSION:2.0
PRODID:-//Polydog.ch//NONSGML kigkonsult.se iCalcreator 2.16.12//
METHOD:PUBLISH
X-MS-OLK-FORCEINSPECTOROPEN:TRUE
BEGIN:VEVENT
UID:20260421T095404CEST-5902B7dVCt@Polydog.ch
DTSTAMP:20260421T075404Z
DESCRIPTION:\n	\n		\n			 \n			Name des Wettkampfes\n			SpassSport-Wettkampf Uster\n		\n		\n
 			 \n			Kategorien\n			A\, B1 und B2\n		\n		\n			1.\n			Sektion\n			Hundesport Uster und Umgebu
 ng\n		\n		\n			2.\n			Webseite\n			www.hundesport-uster-umgebung.ch\n		\n		\n			3.\n			Datum der 
 Prüfung\n			16.05.2021\n		\n		\n			4.\n			Ort und Gelände\n			HSP Uster\, Bühlenweg\n			(beim
  Ausbildungszentrum) \, Riedikon\n		\n		\n			5.\n			Beginn (Uhrzeit)\n			08.30 Uhr\n		\n		
 \n			6.\n			Meldebeginn\n			21.01.2021\n		\n		\n			7.\n			Meldeschluss\n			07.05.2021\n		\n		\n			8.\n			W
 ettkampfleiter\n			Markus Häfliger\, Im Ahorn 22\, 8125 Zollikerberg\n		\n		\n			9.
 \n			Anmeldung\n			über Webseite\n			www.hundesport-uster-umgebung.ch\n		\n		\n			10.\n			Sta
 rtgeld\n			CHF 45.00 (Mitglieder SKG)\n			CHF 50.00 (Nichtmitglieder SKG)\n		\n		\n			1
 1.\n			Max. Teilnehmerzahl\n			offen\n		\n		\n			12.\n			Rangverkündigung\n			keine (Corona)
 \n		\n		\n			13.\n			Bemerkungen\n			\n			\n				\n					\n						\n						Je nach 'Coronalage'. Die Teilnehmer wer
 den gestaffelt aufgeboten. Der Wettkampf wird in 4er-Gruppen oder einzeln 
 (je nach Corona-Situation) absolviert. Für den Wettkampf pro Gruppe ist ei
 ne Dauer von ca. 30 min. geplant. Kurz nach dem Wettkampf wird das Resulta
 tblatt und der Einheitspreis abgegeben und die Teilnehmer sind entlassen. 
 Besucher und Begleitpersonen sind nicht erlaubt.\n						\n					\n				\n			\n			\n		\n	\n\n
DTSTART:20210516T083000
DTEND:20210516T000000
LOCATION:HSP Uster\, Bühlenweg (beim Ausbildungszentrum) \, Riedikon
ORGANIZER:MAILTO:Polydog.ch <info@polydog.ch>
SUMMARY:SpassSport-Wettkampf Uster
END:VEVENT
END:VCALENDAR
