BEGIN:VCALENDAR
VERSION:2.0
PRODID:-//Polydog.ch//NONSGML kigkonsult.se iCalcreator 2.16.12//
METHOD:PUBLISH
X-MS-OLK-FORCEINSPECTOROPEN:TRUE
BEGIN:VEVENT
UID:20260421T102607CEST-3157jheVPF@Polydog.ch
DTSTAMP:20260421T082607Z
DESCRIPTION:\n	\n		\n			1.\n			Sektion\n			KG Winterthur\n		\n		\n			2.\n			Kategorien\n			Anfänger\
 , Klassen 1 bis 3\n		\n		\n			3.\n			Webseite\n			www.kgwinterthur.ch\n		\n		\n			4.\n			Datum de
 s Wettkampfes\n			24.05.2021\n		\n		\n			5.\n			Ort und Gelände\n			Winterthur\, Gelände d
 er KGW\n		\n		\n			6.\n			Beginn\n			09.00 Uhr\n		\n		\n			7.\n			Meldebeginn\n			01.04.2021\n		\n		\n			8.
 \n			Meldeschluss\n			15.05.2021\n		\n		\n			9.\n			Wettkampfleiter\n			Josiane Traber\, im S
 chnideracker 2\,\n			8543 Bertschikon\n		\n		\n			10.\n			Richter\n			noch offen\n		\n		\n			11.
 \n			Anmeldung\n			online auf www.kgwinterthur.ch oder\n			per Mail einjosiane.trab
 er@gmx.net\n		\n		\n			12.\n			Startgeld\n			CHF 45.00 für SKG-Mitglieder\,\n			CHF 50.00 
 für Nichtmitglieder\n		\n		\n			13.\n			Max. Teilnehmerzahl\n			40\n		\n		\n			14.\n			Rangverkün
 digung\n			Schnellstmöglich nach Wettkampfende\n		\n		\n			15.\n			Bemerkungen\n			Mittage
 ssen\, keine Einheitspreise\n		\n		\n			 \n			 \n			 \n		\n	\n\n
DTSTART:20210524T090000
DTEND:20210524T150000
LOCATION:Winterthur
ORGANIZER:MAILTO:Polydog.ch <info@polydog.ch>
SUMMARY:Rallye Obedience Pfingstwettkampf KG Winterthur
END:VEVENT
END:VCALENDAR
