BEGIN:VCALENDAR
VERSION:2.0
PRODID:-//Polydog.ch//NONSGML kigkonsult.se iCalcreator 2.16.12//
METHOD:PUBLISH
X-MS-OLK-FORCEINSPECTOROPEN:TRUE
BEGIN:VEVENT
UID:20260421T102747CEST-8459bVNxlO@Polydog.ch
DTSTAMP:20260421T082747Z
DESCRIPTION:\n	\n		\n			1.\n			Sektion\n			SCOG Rothrist\n		\n		\n			2.\n			Kategorien\n			Anfänger\
 , Klassen 1 bis 3\n		\n		\n			3.\n			Webseite\n			 \n		\n		\n			4.\n			Datum des Wettkampfes\n			20.
 06.2021\n		\n		\n			5.\n			Ort und Gelände\n			4852 Rothrist\, Bernstrasse 283\, Clubha
 us\n		\n		\n			6.\n			Beginn\n			08.30 Uhr\n		\n		\n			7.\n			Meldebeginn\n			01.03.2021\n		\n		\n			8.\n			Me
 ldeschluss\n			12.06.2021\n		\n		\n			9.\n			Wettkampfleiter\n			Urs Allemann\, Rehhalde 6
 \, 6253 Uffikon\, flic@bluewin.ch\n		\n		\n			10.\n			Richter\n			Ursula Habegger / vak
 ant\n		\n		\n			11.\n			Anmeldung\n			Urs Allemann\, Rehhalde 6\, 6253 Uffikon\, flic@b
 luewin.ch\n		\n		\n			12.\n			Startgeld\n			SKG CHF 50.00 / nicht SKG CHF 55.00\n		\n		\n			13
 .\n			Max. Teilnehmerzahl\n			35\n		\n		\n			14.\n			Rangverkündigung\n			Schnellstmöglich na
 ch Wettkampfende\n		\n		\n			15.\n			Bemerkungen\n			- Meldeformular über flic@bluewin.
 ch anfordern.\n			- Im Vorfeld des Wettkampfes wird für die Teilnehmer/innen 
 ein Training auf dem Wettkampfplatz organisiert.\n		\n		\n			 \n			 \n			 \n		\n	\n\n
DTSTART:20210620T083000
DTEND:20210620T150000
LOCATION:Rothrist
ORGANIZER:MAILTO:Polydog.ch <info@polydog.ch>
SUMMARY:Rally Obedience Wettkampf SCOG Rothrist
END:VEVENT
END:VCALENDAR
