BEGIN:VCALENDAR
VERSION:2.0
PRODID:-//Polydog.ch//NONSGML kigkonsult.se iCalcreator 2.16.12//
METHOD:PUBLISH
X-MS-OLK-FORCEINSPECTOROPEN:TRUE
BEGIN:VEVENT
UID:20260421T102610CEST-69043SeDVR@Polydog.ch
DTSTAMP:20260421T082610Z
DESCRIPTION:\n	\n		\n			Was\n			Wann / wie / wo\n		\n	\n	\n		\n			Kategorie(n)\n			Spass Sport A
 \,B1\n		\n		\n			Ort und Gelände \n			Rossboden Chur\n		\n		\n			Datum und Beginn\n			06.09.20
 20 / 09:00\n		\n		\n			Anmeldefristen\n			01.02.2020 - 10.10.2020\n		\n		\n			Wettkampfleit
 ung\n			Doris Casutt Via Principala 52 7153 Falera dcasutt@kns.ch\n		\n		\n			Startg
 eld\n			SKG Mitglied Fr.40.-- / Ohne SKG Fr\,45.-- ohne Verpflegung\n		\n		\n			Anza
 hl Teilnehmer\n			maximal 40\n		\n		\n			Rangverkündigung \n			Sofort nach Wettkampfend
 e\n		\n		\n			Bemerkungen \n			Bitte mitteilen: zusätzliche Mittagessen\, Fleisch od
 er Vegi\, möchte Aktivitätennachweis (grünes Büchlein) für CHF 15.- kaufen
 \n		\n		\n			Anmeldung\n			jetzt Anmelden »\n		\n	\n\n
DTSTART:20201025T090000
DTEND:20201025T153000
LOCATION:Rossboden Chur
ORGANIZER:MAILTO:Polydog.ch <info@polydog.ch>
SUMMARY:SpassSport Wettkampf KV Chur und Umgebung
END:VEVENT
END:VCALENDAR
