BEGIN:VCALENDAR
VERSION:2.0
PRODID:-//Polydog.ch//NONSGML kigkonsult.se iCalcreator 2.16.12//
METHOD:PUBLISH
X-MS-OLK-FORCEINSPECTOROPEN:TRUE
BEGIN:VEVENT
UID:20260421T102700CEST-4596easGEb@Polydog.ch
DTSTAMP:20260421T082700Z
DESCRIPTION:\n	\n		\n			Kategorie(n)\n			A\, B1\, B2\n		\n		\n			Name der Prüfung\n			SpassSpo
 rt Prüfung KV Aarau u. U.\n		\n		\n			1.Sektion\n			KV Aarau u. U.\n		\n		\n			2. Webseite
 \n			https://www.kv-aarau.ch/\n		\n		\n			3. Datum der Prüfung\n			06.09.2020\n		\n		\n			4. O
 rt und Gelände\n			Klubhaus am Stauwehr\, 5015 Erlinsbach\n		\n		\n			5. Beginn (Uhr
 zeit)\n			9 Uhr\n		\n		\n			6. Meldebeginn\n			03.02.2020\n		\n		\n			7. Meldeschluss\n			30.08.2
 020\n		\n		\n			8. Wettkampfleiter\n			Nadja Reicht\, Dürrenäsch\n		\n		\n			9. Anmeldungzu
 stellung\n			www.kv-aarau.ch oder nadja.reicht@bluewin.ch\n		\n		\n			10. Startgeld
 \n			CHF 45.- / nicht SKG-Mtgl. CHF 50.-\n		\n		\n			11. Max. Anzahl Teilnehmer\n			40 
 (mind. Anzahl TN 8)\n		\n		\n			12. Rangverkündigung\n			raschmöglichst nach Wettkam
 pfende\n		\n		\n			13. Bemerkungen\n			Bitte mitteilen: zusätzliche Mittagessen\, Fl
 eisch oder Vegi\, möchte Aktivitätennachweis (grünes Büchlein) für CHF 15.
 - kaufen\n		\n		\n			 \n			 \n		\n		\n			 \n			 \n		\n		\n			 \n			 \n		\n	\n\n
DTSTART:20200906T090000
DTEND:20200906T000000
LOCATION:Klubhaus am Stauwehr\, 5015 Erlinsbach
ORGANIZER:MAILTO:Polydog.ch <info@polydog.ch>
SUMMARY:SpassSport Wettkampf KV Aarau u. U.
END:VEVENT
END:VCALENDAR
