BEGIN:VCALENDAR
VERSION:2.0
PRODID:-//Polydog.ch//NONSGML kigkonsult.se iCalcreator 2.16.12//
METHOD:PUBLISH
X-MS-OLK-FORCEINSPECTOROPEN:TRUE
BEGIN:VEVENT
UID:20260421T095526CEST-8120SjbT5u@Polydog.ch
DTSTAMP:20260421T075526Z
DESCRIPTION:\n	\n		\n			Was\n			Wann / wie / wo\n		\n	\n	\n		\n			Kategorie(n)\n			Beginners und
  Stufe 1\n		\n		\n			Ort und Gelände \n			Rossboden Chur\n		\n		\n			Datum und Beginn\n			20.0
 9.2020 / 09:00\n		\n		\n			Anmeldefristen\n			01.02.2020 - 06.09.2020\n		\n		\n			Wettkampf
 leitung\n			Evelyn Jufer\n		\n		\n			Startgeld\n			SKG Mitglieder 50.- / Nichtmitgliede
 r 55.- / Startgeld exkl. Verpflegung\n		\n		\n			Anzahl Teilnehmer\n			maximal 30 Te
 ams\n		\n		\n			Rangverkündigung \n			ca. 1h nach Wettkampfende\n		\n		\n			Bemerkungen \n			-
 \n		\n		\n			Anmeldung\n			jetzt Anmelden »\n		\n	\n\n
DTSTART:20200920T090000
DTEND:20200920T000000
LOCATION:Chur
ORGANIZER:MAILTO:Polydog.ch <info@polydog.ch>
SUMMARY:SchaSu Wettkampf KV Chur und Umgebung
END:VEVENT
END:VCALENDAR
