BEGIN:VCALENDAR
VERSION:2.0
PRODID:-//Polydog.ch//NONSGML kigkonsult.se iCalcreator 2.16.12//
METHOD:PUBLISH
X-MS-OLK-FORCEINSPECTOROPEN:TRUE
BEGIN:VEVENT
UID:20260421T105854CEST-6079sklwxv@Polydog.ch
DTSTAMP:20260421T085854Z
DESCRIPTION:\n	\n		\n			Kategorie(n)\n			Beginners und Klasse 1\n		\n		\n			Klassen    \n			Be
 ginners\, Medium\, Small\n		\n		\n			Name der Prüfung\n			Dummy Sport-Wettkampf Erli
 nsbach\n		\n		\n			Sektion\n			Kyn. Verein Aarau u.U.\n		\n		\n			Webseite\n			www.kv-aarau.ch
 \n		\n		\n			Datum der Prüfung\n			08.11.2020\n		\n		\n			Beginn (Uhrzeit)\n			09.00 Uhr\n		\n		\n
 			Meldebeginn\n			01.08.2019\n		\n		\n			Meldeschluss\n			25.10.2020\n		\n		\n			Wettkampfleiter
 \n			Françoise Bingler\, francoisebingler@vtxmail.ch\, 076 549 70 08\n		\n		\n			Anm
 eldungzustellung\n			Online-Anmeldung über Webseite www.kv-aarau.ch\n		\n		\n			Star
 tgeld\n			CHF 45.00 für SKG-Mitglieder\, CHF 50.00 für Nichtmitglieder\n		\n		\n			m
 ax. Anzahl Teilnehmer\n			max. 30 insgesamt\n		\n		\n			Rangverkündigung\n			raschmögli
 chst nach Prüfungsende\n		\n		\n			Bemerkungen    \n			Getränke und Verpflegung kann
  vor Ort bezogen werden\n		\n	\n\n
DTSTART:20201108T090000
DTEND:20201108T000000
LOCATION:am Stauwehr\, 5015 Erlinsbach
ORGANIZER:MAILTO:Polydog.ch <info@polydog.ch>
SUMMARY:Dummy Sport-Wettkampf Erlinsbach
END:VEVENT
END:VCALENDAR
