BEGIN:VCALENDAR
VERSION:2.0
PRODID:-//Polydog.ch//NONSGML kigkonsult.se iCalcreator 2.16.12//
METHOD:PUBLISH
X-MS-OLK-FORCEINSPECTOROPEN:TRUE
BEGIN:VEVENT
UID:20260421T095404CEST-0733dJWSiV@Polydog.ch
DTSTAMP:20260421T075404Z
DESCRIPTION:\n	\n		\n			Was\n			Wann / wie / wo\n		\n	\n	\n		\n			Kategorie(n)\n			Beginners\, K
 lasse 1 und Klasse 2\n		\n		\n			Ort und Gelände \n			KV-Berna\, Klubhaus Murtenholz
 \n		\n		\n			Datum und Beginn\n			06.09.2020 / 09:00\n		\n		\n			Anmeldefristen\n			30.03.2020
  - 28.08.2020\n		\n		\n			Wettkampfleitung\n			Fritschi Otto\, Neugrundrain 31\, 317
 6 Neuenegg\n		\n		\n			Wetkampfrichter\n			Sylvia Sennhauser\n		\n		\n			Startgeld\n			CHF 35.
 00 für SKG-Mitglieder\, CHF 40.00 für Nichtmitglieder\n		\n		\n			Anzahl Teilnehm
 er\n			max. 40 insgesamt\n		\n		\n			Rangverkündigung \n			ca. 15.00 Uhr\n		\n		\n			Bemerkung
 en \n			​Zufahrtsplan unter www.kv-berna.ch herunter laden. Bitte beachten Si
 e die gelben Signaltafeln KV-Berna ab Autobahnausfahrt Murten.\n		\n		\n			Anmeld
 ung\n			jetzt Anmelden »\n		\n	\n\n
DTSTART:20200906T090000
DTEND:20200906T000000
LOCATION:KV-Berna
ORGANIZER:MAILTO:Polydog.ch <info@polydog.ch>
SUMMARY:HoopAgi\, KV Berna
END:VEVENT
END:VCALENDAR
