BEGIN:VCALENDAR
VERSION:2.0
PRODID:-//Polydog.ch//NONSGML kigkonsult.se iCalcreator 2.16.12//
METHOD:PUBLISH
X-MS-OLK-FORCEINSPECTOROPEN:TRUE
BEGIN:VEVENT
UID:20260421T095526CEST-1893gruTdL@Polydog.ch
DTSTAMP:20260421T075526Z
DESCRIPTION:\n	\n		\n			Kategorie(n)\n			Beginners\, Klassen 1 bis 3\n		\n		\n			Name der P
 rüfung\n			Übungsprüfung\n		\n		\n			Sektion\n			Dogscool\n		\n		\n			Webseite\n			www.dogscool.c
 h\n		\n		\n			Datum der Prüfung\n			21. Januar 2018\n		\n		\n			Beginn (Uhrzeit)\n			15.00 bis
  16.00 Uhr\n		\n		\n			Meldebeginn\n			25. Dezember 2017\n		\n		\n			Meldeschluss\n			19. Janu
 ar 2018\n		\n		\n			Wettkampfleiter\n			Nadine Ammann\, Waldstrasse 10\, 5619 Büttik
 on\, animalcoach@gmx.ch\n		\n		\n			Anmeldungzustellung\n			Nadine Ammann\, Waldstra
 sse 10\, 5619 Büttikon\, animalcoach@gmx.ch\n		\n		\n			Startgeld\n			CHF 25.00 für 
 SKG-Mitglieder\, CHF 30.00 für Nichtmitglieder\n		\n		\n			max. Anzahl Teilnehmer
 \n			max. 20 insgesamt\n		\n		\n			Rangverkündigung\n			keine\n		\n		\n			Richter\n			noch offen
 \n		\n		\n			Bemerkungen\n			\n			 \n			ACHTUNG: Nur eine Übungsprüfung. Es gibt keine Ein
 träge in den Leistungsausweis/ kein Resultat für die nächst höhere Klasse!
 !\n			Übungsparcours / Vorbereitung für eine Prüfung. Trainieren auf einem fr
 emden Platz. Eine nächst höhere Klasse ausprobieren.Jeweils 1-2 Parcours v
 on jeder gewünschten Kategorie.\n		\n	\n\n
DTSTART:20180121T150000
DTEND:20180121T000000
LOCATION:Hundeplatz Dogscool
ORGANIZER:MAILTO:Polydog.ch <info@polydog.ch>
SUMMARY:Dogscool Übungswettkampf
END:VEVENT
END:VCALENDAR
