BEGIN:VCALENDAR
VERSION:2.0
PRODID:-//Polydog.ch//NONSGML kigkonsult.se iCalcreator 2.16.12//
METHOD:PUBLISH
X-MS-OLK-FORCEINSPECTOROPEN:TRUE
BEGIN:VEVENT
UID:20260421T102738CEST-3402fHNz3Z@Polydog.ch
DTSTAMP:20260421T082738Z
DESCRIPTION:\n	\n		\n			Wer\n			RallyObedience-Richter\n		\n		\n			Wann\n			23. Juli 2017\, vo
 n 09.30 Uhr bis ca. 16.30 Uhr\n		\n		\n			Leitung\n			Patricia Bächtold\n		\n		\n			Mitbrin
 gen\n			Reglement\n		\n	\n\n\n\n\n 
DTSTART:20170723T090000
DTEND:20170723T163000
LOCATION:Dog4you
ORGANIZER:MAILTO:Polydog.ch <info@polydog.ch>
SUMMARY:Praxistag Richterweiterbildung
END:VEVENT
END:VCALENDAR
